BEGIN:VCALENDAR
VERSION:2.0
PRODID:-//Saalfelden-Leogang.com//NONSGML kigkonsult.se iCalcreator 2.22.1/
 /EN
METHOD:PUBLISH
X-WR-CALNAME;LANGUAGE=en:Saalfelden-Leogang.com
X-WR-CALDESC;LANGUAGE=en:Saalfelden-Leogang.com
X-WR-TIMEZONE;LANGUAGE=en:Europe/Berlin
BEGIN:VEVENT
UID:20260420T100147CEST-90534GmKLU@Saalfelden-Leogang.com
DTSTAMP:20260420T080147Z
DESCRIPTION;LANGUAGE=en:The expanses around the Grießner Hochmoor invite yo
 u on an adventurous winter (snowshoe) hike up to the Seealm. After a cosy 
 meal at the hut\, you walk along the winter hiking trail\, without snowsho
 es\, but with lantern light into the evening and back to the starting poin
 t at Hochfilzen Biathlon railway station\n\n\n\n\n\n-Duration: 13.30 - app
 rox. 3.5 h \n\n-Meeting point: Hochfilzen biathlon railway station \n\n-Co
 sts: free with the Saalfelden Leogang Card\, without card 20\,- Euro per p
 erson \n\n-Number of participants: min. 2 persons -Equipment: winter shoes
 \, winter clothing \n\n-Registration: by 4.00 pm the day before scroll dow
 n for registration\n\nscroll down for registration
DTSTART:20251201T123000Z
DTEND:20251201T123000Z
LOCATION;LANGUAGE=en:Bahnhof Hochfilzen
SUMMARY;LANGUAGE=en:Schnee-Licht-Wanderung
END:VEVENT
BEGIN:VEVENT
UID:20260420T100147CEST-9054LFujtg@Saalfelden-Leogang.com
DTSTAMP:20260420T080147Z
DESCRIPTION;LANGUAGE=en:The expanses around the Grießner Hochmoor invite yo
 u on an adventurous winter (snowshoe) hike up to the Seealm. After a cosy 
 meal at the hut\, you walk along the winter hiking trail\, without snowsho
 es\, but with lantern light into the evening and back to the starting poin
 t at Hochfilzen Biathlon railway station\n\n\n\n\n\n-Duration: 13.30 - app
 rox. 3.5 h \n\n-Meeting point: Hochfilzen biathlon railway station \n\n-Co
 sts: free with the Saalfelden Leogang Card\, without card 20\,- Euro per p
 erson \n\n-Number of participants: min. 2 persons -Equipment: winter shoes
 \, winter clothing \n\n-Registration: by 4.00 pm the day before scroll dow
 n for registration\n\nscroll down for registration
DTSTART:20251208T123000Z
DTEND:20251208T123000Z
LOCATION;LANGUAGE=en:Bahnhof Hochfilzen
SUMMARY;LANGUAGE=en:Schnee-Licht-Wanderung
END:VEVENT
BEGIN:VEVENT
UID:20260420T100147CEST-9055u0oz5j@Saalfelden-Leogang.com
DTSTAMP:20260420T080147Z
DESCRIPTION;LANGUAGE=en:The expanses around the Grießner Hochmoor invite yo
 u on an adventurous winter (snowshoe) hike up to the Seealm. After a cosy 
 meal at the hut\, you walk along the winter hiking trail\, without snowsho
 es\, but with lantern light into the evening and back to the starting poin
 t at Hochfilzen Biathlon railway station\n\n\n\n\n\n-Duration: 13.30 - app
 rox. 3.5 h \n\n-Meeting point: Hochfilzen biathlon railway station \n\n-Co
 sts: free with the Saalfelden Leogang Card\, without card 20\,- Euro per p
 erson \n\n-Number of participants: min. 2 persons -Equipment: winter shoes
 \, winter clothing \n\n-Registration: by 4.00 pm the day before scroll dow
 n for registration\n\nscroll down for registration
DTSTART:20251215T123000Z
DTEND:20251215T123000Z
LOCATION;LANGUAGE=en:Bahnhof Hochfilzen
SUMMARY;LANGUAGE=en:Schnee-Licht-Wanderung
END:VEVENT
BEGIN:VEVENT
UID:20260420T100147CEST-9056vcCRng@Saalfelden-Leogang.com
DTSTAMP:20260420T080147Z
DESCRIPTION;LANGUAGE=en:The expanses around the Grießner Hochmoor invite yo
 u on an adventurous winter (snowshoe) hike up to the Seealm. After a cosy 
 meal at the hut\, you walk along the winter hiking trail\, without snowsho
 es\, but with lantern light into the evening and back to the starting poin
 t at Hochfilzen Biathlon railway station\n\n\n\n\n\n-Duration: 13.30 - app
 rox. 3.5 h \n\n-Meeting point: Hochfilzen biathlon railway station \n\n-Co
 sts: free with the Saalfelden Leogang Card\, without card 20\,- Euro per p
 erson \n\n-Number of participants: min. 2 persons -Equipment: winter shoes
 \, winter clothing \n\n-Registration: by 4.00 pm the day before scroll dow
 n for registration\n\nscroll down for registration
DTSTART:20251222T123000Z
DTEND:20251222T123000Z
LOCATION;LANGUAGE=en:Bahnhof Hochfilzen
SUMMARY;LANGUAGE=en:Schnee-Licht-Wanderung
END:VEVENT
BEGIN:VEVENT
UID:20260420T100147CEST-9057n8Azvz@Saalfelden-Leogang.com
DTSTAMP:20260420T080147Z
DESCRIPTION;LANGUAGE=en:The expanses around the Grießner Hochmoor invite yo
 u on an adventurous winter (snowshoe) hike up to the Seealm. After a cosy 
 meal at the hut\, you walk along the winter hiking trail\, without snowsho
 es\, but with lantern light into the evening and back to the starting poin
 t at Hochfilzen Biathlon railway station\n\n\n\n\n\n-Duration: 13.30 - app
 rox. 3.5 h \n\n-Meeting point: Hochfilzen biathlon railway station \n\n-Co
 sts: free with the Saalfelden Leogang Card\, without card 20\,- Euro per p
 erson \n\n-Number of participants: min. 2 persons -Equipment: winter shoes
 \, winter clothing \n\n-Registration: by 4.00 pm the day before scroll dow
 n for registration\n\nscroll down for registration
DTSTART:20251229T123000Z
DTEND:20251229T123000Z
LOCATION;LANGUAGE=en:Bahnhof Hochfilzen
SUMMARY;LANGUAGE=en:Schnee-Licht-Wanderung
END:VEVENT
BEGIN:VEVENT
UID:20260420T100147CEST-90586mWZHX@Saalfelden-Leogang.com
DTSTAMP:20260420T080147Z
DESCRIPTION;LANGUAGE=en:The expanses around the Grießner Hochmoor invite yo
 u on an adventurous winter (snowshoe) hike up to the Seealm. After a cosy 
 meal at the hut\, you walk along the winter hiking trail\, without snowsho
 es\, but with lantern light into the evening and back to the starting poin
 t at Hochfilzen Biathlon railway station\n\n\n\n\n\n-Duration: 13.30 - app
 rox. 3.5 h \n\n-Meeting point: Hochfilzen biathlon railway station \n\n-Co
 sts: free with the Saalfelden Leogang Card\, without card 20\,- Euro per p
 erson \n\n-Number of participants: min. 2 persons -Equipment: winter shoes
 \, winter clothing \n\n-Registration: by 4.00 pm the day before scroll dow
 n for registration\n\nscroll down for registration
DTSTART:20260105T123000Z
DTEND:20260105T123000Z
LOCATION;LANGUAGE=en:Bahnhof Hochfilzen
SUMMARY;LANGUAGE=en:Schnee-Licht-Wanderung
END:VEVENT
BEGIN:VEVENT
UID:20260420T100147CEST-9059I6Pojp@Saalfelden-Leogang.com
DTSTAMP:20260420T080147Z
DESCRIPTION;LANGUAGE=en:The expanses around the Grießner Hochmoor invite yo
 u on an adventurous winter (snowshoe) hike up to the Seealm. After a cosy 
 meal at the hut\, you walk along the winter hiking trail\, without snowsho
 es\, but with lantern light into the evening and back to the starting poin
 t at Hochfilzen Biathlon railway station\n\n\n\n\n\n-Duration: 13.30 - app
 rox. 3.5 h \n\n-Meeting point: Hochfilzen biathlon railway station \n\n-Co
 sts: free with the Saalfelden Leogang Card\, without card 20\,- Euro per p
 erson \n\n-Number of participants: min. 2 persons -Equipment: winter shoes
 \, winter clothing \n\n-Registration: by 4.00 pm the day before scroll dow
 n for registration\n\nscroll down for registration
DTSTART:20260112T123000Z
DTEND:20260112T123000Z
LOCATION;LANGUAGE=en:Bahnhof Hochfilzen
SUMMARY;LANGUAGE=en:Schnee-Licht-Wanderung
END:VEVENT
BEGIN:VEVENT
UID:20260420T100147CEST-9060ikn3M0@Saalfelden-Leogang.com
DTSTAMP:20260420T080147Z
DESCRIPTION;LANGUAGE=en:The expanses around the Grießner Hochmoor invite yo
 u on an adventurous winter (snowshoe) hike up to the Seealm. After a cosy 
 meal at the hut\, you walk along the winter hiking trail\, without snowsho
 es\, but with lantern light into the evening and back to the starting poin
 t at Hochfilzen Biathlon railway station\n\n\n\n\n\n-Duration: 13.30 - app
 rox. 3.5 h \n\n-Meeting point: Hochfilzen biathlon railway station \n\n-Co
 sts: free with the Saalfelden Leogang Card\, without card 20\,- Euro per p
 erson \n\n-Number of participants: min. 2 persons -Equipment: winter shoes
 \, winter clothing \n\n-Registration: by 4.00 pm the day before scroll dow
 n for registration\n\nscroll down for registration
DTSTART:20260119T123000Z
DTEND:20260119T123000Z
LOCATION;LANGUAGE=en:Bahnhof Hochfilzen
SUMMARY;LANGUAGE=en:Schnee-Licht-Wanderung
END:VEVENT
BEGIN:VEVENT
UID:20260420T100147CEST-9061Xo8EGr@Saalfelden-Leogang.com
DTSTAMP:20260420T080147Z
DESCRIPTION;LANGUAGE=en:The expanses around the Grießner Hochmoor invite yo
 u on an adventurous winter (snowshoe) hike up to the Seealm. After a cosy 
 meal at the hut\, you walk along the winter hiking trail\, without snowsho
 es\, but with lantern light into the evening and back to the starting poin
 t at Hochfilzen Biathlon railway station\n\n\n\n\n\n-Duration: 13.30 - app
 rox. 3.5 h \n\n-Meeting point: Hochfilzen biathlon railway station \n\n-Co
 sts: free with the Saalfelden Leogang Card\, without card 20\,- Euro per p
 erson \n\n-Number of participants: min. 2 persons -Equipment: winter shoes
 \, winter clothing \n\n-Registration: by 4.00 pm the day before scroll dow
 n for registration\n\nscroll down for registration
DTSTART:20260126T123000Z
DTEND:20260126T123000Z
LOCATION;LANGUAGE=en:Bahnhof Hochfilzen
SUMMARY;LANGUAGE=en:Schnee-Licht-Wanderung
END:VEVENT
BEGIN:VEVENT
UID:20260420T100147CEST-90625sdUva@Saalfelden-Leogang.com
DTSTAMP:20260420T080147Z
DESCRIPTION;LANGUAGE=en:The expanses around the Grießner Hochmoor invite yo
 u on an adventurous winter (snowshoe) hike up to the Seealm. After a cosy 
 meal at the hut\, you walk along the winter hiking trail\, without snowsho
 es\, but with lantern light into the evening and back to the starting poin
 t at Hochfilzen Biathlon railway station\n\n\n\n\n\n-Duration: 13.30 - app
 rox. 3.5 h \n\n-Meeting point: Hochfilzen biathlon railway station \n\n-Co
 sts: free with the Saalfelden Leogang Card\, without card 20\,- Euro per p
 erson \n\n-Number of participants: min. 2 persons -Equipment: winter shoes
 \, winter clothing \n\n-Registration: by 4.00 pm the day before scroll dow
 n for registration\n\nscroll down for registration
DTSTART:20260202T123000Z
DTEND:20260202T123000Z
LOCATION;LANGUAGE=en:Bahnhof Hochfilzen
SUMMARY;LANGUAGE=en:Schnee-Licht-Wanderung
END:VEVENT
BEGIN:VEVENT
UID:20260420T100147CEST-90635lgbUb@Saalfelden-Leogang.com
DTSTAMP:20260420T080147Z
DESCRIPTION;LANGUAGE=en:The expanses around the Grießner Hochmoor invite yo
 u on an adventurous winter (snowshoe) hike up to the Seealm. After a cosy 
 meal at the hut\, you walk along the winter hiking trail\, without snowsho
 es\, but with lantern light into the evening and back to the starting poin
 t at Hochfilzen Biathlon railway station\n\n\n\n\n\n-Duration: 13.30 - app
 rox. 3.5 h \n\n-Meeting point: Hochfilzen biathlon railway station \n\n-Co
 sts: free with the Saalfelden Leogang Card\, without card 20\,- Euro per p
 erson \n\n-Number of participants: min. 2 persons -Equipment: winter shoes
 \, winter clothing \n\n-Registration: by 4.00 pm the day before scroll dow
 n for registration\n\nscroll down for registration
DTSTART:20260209T123000Z
DTEND:20260209T123000Z
LOCATION;LANGUAGE=en:Bahnhof Hochfilzen
SUMMARY;LANGUAGE=en:Schnee-Licht-Wanderung
END:VEVENT
BEGIN:VEVENT
UID:20260420T100147CEST-9064ptbuWR@Saalfelden-Leogang.com
DTSTAMP:20260420T080147Z
DESCRIPTION;LANGUAGE=en:The expanses around the Grießner Hochmoor invite yo
 u on an adventurous winter (snowshoe) hike up to the Seealm. After a cosy 
 meal at the hut\, you walk along the winter hiking trail\, without snowsho
 es\, but with lantern light into the evening and back to the starting poin
 t at Hochfilzen Biathlon railway station\n\n\n\n\n\n-Duration: 13.30 - app
 rox. 3.5 h \n\n-Meeting point: Hochfilzen biathlon railway station \n\n-Co
 sts: free with the Saalfelden Leogang Card\, without card 20\,- Euro per p
 erson \n\n-Number of participants: min. 2 persons -Equipment: winter shoes
 \, winter clothing \n\n-Registration: by 4.00 pm the day before scroll dow
 n for registration\n\nscroll down for registration
DTSTART:20260216T123000Z
DTEND:20260216T123000Z
LOCATION;LANGUAGE=en:Bahnhof Hochfilzen
SUMMARY;LANGUAGE=en:Schnee-Licht-Wanderung
END:VEVENT
BEGIN:VEVENT
UID:20260420T100147CEST-9065bH77Ar@Saalfelden-Leogang.com
DTSTAMP:20260420T080147Z
DESCRIPTION;LANGUAGE=en:The expanses around the Grießner Hochmoor invite yo
 u on an adventurous winter (snowshoe) hike up to the Seealm. After a cosy 
 meal at the hut\, you walk along the winter hiking trail\, without snowsho
 es\, but with lantern light into the evening and back to the starting poin
 t at Hochfilzen Biathlon railway station\n\n\n\n\n\n-Duration: 13.30 - app
 rox. 3.5 h \n\n-Meeting point: Hochfilzen biathlon railway station \n\n-Co
 sts: free with the Saalfelden Leogang Card\, without card 20\,- Euro per p
 erson \n\n-Number of participants: min. 2 persons -Equipment: winter shoes
 \, winter clothing \n\n-Registration: by 4.00 pm the day before scroll dow
 n for registration\n\nscroll down for registration
DTSTART:20260223T123000Z
DTEND:20260223T123000Z
LOCATION;LANGUAGE=en:Bahnhof Hochfilzen
SUMMARY;LANGUAGE=en:Schnee-Licht-Wanderung
END:VEVENT
BEGIN:VEVENT
UID:20260420T100147CEST-9066H4N8vE@Saalfelden-Leogang.com
DTSTAMP:20260420T080147Z
DESCRIPTION;LANGUAGE=en:The expanses around the Grießner Hochmoor invite yo
 u on an adventurous winter (snowshoe) hike up to the Seealm. After a cosy 
 meal at the hut\, you walk along the winter hiking trail\, without snowsho
 es\, but with lantern light into the evening and back to the starting poin
 t at Hochfilzen Biathlon railway station\n\n\n\n\n\n-Duration: 13.30 - app
 rox. 3.5 h \n\n-Meeting point: Hochfilzen biathlon railway station \n\n-Co
 sts: free with the Saalfelden Leogang Card\, without card 20\,- Euro per p
 erson \n\n-Number of participants: min. 2 persons -Equipment: winter shoes
 \, winter clothing \n\n-Registration: by 4.00 pm the day before scroll dow
 n for registration\n\nscroll down for registration
DTSTART:20260302T123000Z
DTEND:20260302T123000Z
LOCATION;LANGUAGE=en:Bahnhof Hochfilzen
SUMMARY;LANGUAGE=en:Schnee-Licht-Wanderung
END:VEVENT
BEGIN:VEVENT
UID:20260420T100147CEST-9066sk0Tnr@Saalfelden-Leogang.com
DTSTAMP:20260420T080147Z
DESCRIPTION;LANGUAGE=en:The expanses around the Grießner Hochmoor invite yo
 u on an adventurous winter (snowshoe) hike up to the Seealm. After a cosy 
 meal at the hut\, you walk along the winter hiking trail\, without snowsho
 es\, but with lantern light into the evening and back to the starting poin
 t at Hochfilzen Biathlon railway station\n\n\n\n\n\n-Duration: 13.30 - app
 rox. 3.5 h \n\n-Meeting point: Hochfilzen biathlon railway station \n\n-Co
 sts: free with the Saalfelden Leogang Card\, without card 20\,- Euro per p
 erson \n\n-Number of participants: min. 2 persons -Equipment: winter shoes
 \, winter clothing \n\n-Registration: by 4.00 pm the day before scroll dow
 n for registration\n\nscroll down for registration
DTSTART:20260309T123000Z
DTEND:20260309T123000Z
LOCATION;LANGUAGE=en:Bahnhof Hochfilzen
SUMMARY;LANGUAGE=en:Schnee-Licht-Wanderung
END:VEVENT
BEGIN:VEVENT
UID:20260420T100147CEST-9067687uaW@Saalfelden-Leogang.com
DTSTAMP:20260420T080147Z
DESCRIPTION;LANGUAGE=en:The expanses around the Grießner Hochmoor invite yo
 u on an adventurous winter (snowshoe) hike up to the Seealm. After a cosy 
 meal at the hut\, you walk along the winter hiking trail\, without snowsho
 es\, but with lantern light into the evening and back to the starting poin
 t at Hochfilzen Biathlon railway station\n\n\n\n\n\n-Duration: 13.30 - app
 rox. 3.5 h \n\n-Meeting point: Hochfilzen biathlon railway station \n\n-Co
 sts: free with the Saalfelden Leogang Card\, without card 20\,- Euro per p
 erson \n\n-Number of participants: min. 2 persons -Equipment: winter shoes
 \, winter clothing \n\n-Registration: by 4.00 pm the day before scroll dow
 n for registration\n\nscroll down for registration
DTSTART:20260316T123000Z
DTEND:20260316T123000Z
LOCATION;LANGUAGE=en:Bahnhof Hochfilzen
SUMMARY;LANGUAGE=en:Schnee-Licht-Wanderung
END:VEVENT
BEGIN:VEVENT
UID:20260420T100147CEST-90685UWxiM@Saalfelden-Leogang.com
DTSTAMP:20260420T080147Z
DESCRIPTION;LANGUAGE=en:The expanses around the Grießner Hochmoor invite yo
 u on an adventurous winter (snowshoe) hike up to the Seealm. After a cosy 
 meal at the hut\, you walk along the winter hiking trail\, without snowsho
 es\, but with lantern light into the evening and back to the starting poin
 t at Hochfilzen Biathlon railway station\n\n\n\n\n\n-Duration: 13.30 - app
 rox. 3.5 h \n\n-Meeting point: Hochfilzen biathlon railway station \n\n-Co
 sts: free with the Saalfelden Leogang Card\, without card 20\,- Euro per p
 erson \n\n-Number of participants: min. 2 persons -Equipment: winter shoes
 \, winter clothing \n\n-Registration: by 4.00 pm the day before scroll dow
 n for registration\n\nscroll down for registration
DTSTART:20260323T123000Z
DTEND:20260323T123000Z
LOCATION;LANGUAGE=en:Bahnhof Hochfilzen
SUMMARY;LANGUAGE=en:Schnee-Licht-Wanderung
END:VEVENT
BEGIN:VEVENT
UID:20260420T100147CEST-9069FIt4DW@Saalfelden-Leogang.com
DTSTAMP:20260420T080147Z
DESCRIPTION;LANGUAGE=en:The expanses around the Grießner Hochmoor invite yo
 u on an adventurous winter (snowshoe) hike up to the Seealm. After a cosy 
 meal at the hut\, you walk along the winter hiking trail\, without snowsho
 es\, but with lantern light into the evening and back to the starting poin
 t at Hochfilzen Biathlon railway station\n\n\n\n\n\n-Duration: 13.30 - app
 rox. 3.5 h \n\n-Meeting point: Hochfilzen biathlon railway station \n\n-Co
 sts: free with the Saalfelden Leogang Card\, without card 20\,- Euro per p
 erson \n\n-Number of participants: min. 2 persons -Equipment: winter shoes
 \, winter clothing \n\n-Registration: by 4.00 pm the day before scroll dow
 n for registration\n\nscroll down for registration
DTSTART:20260330T113000Z
DTEND:20260330T113000Z
LOCATION;LANGUAGE=en:Bahnhof Hochfilzen
SUMMARY;LANGUAGE=en:Schnee-Licht-Wanderung
END:VEVENT
BEGIN:VEVENT
UID:20260420T100147CEST-9070hhsw9J@Saalfelden-Leogang.com
DTSTAMP:20260420T080147Z
DESCRIPTION;LANGUAGE=en:The expanses around the Grießner Hochmoor invite yo
 u on an adventurous winter (snowshoe) hike up to the Seealm. After a cosy 
 meal at the hut\, you walk along the winter hiking trail\, without snowsho
 es\, but with lantern light into the evening and back to the starting poin
 t at Hochfilzen Biathlon railway station\n\n\n\n\n\n-Duration: 13.30 - app
 rox. 3.5 h \n\n-Meeting point: Hochfilzen biathlon railway station \n\n-Co
 sts: free with the Saalfelden Leogang Card\, without card 20\,- Euro per p
 erson \n\n-Number of participants: min. 2 persons -Equipment: winter shoes
 \, winter clothing \n\n-Registration: by 4.00 pm the day before scroll dow
 n for registration\n\nscroll down for registration
DTSTART:20260406T113000Z
DTEND:20260406T113000Z
LOCATION;LANGUAGE=en:Bahnhof Hochfilzen
SUMMARY;LANGUAGE=en:Schnee-Licht-Wanderung
END:VEVENT
BEGIN:VEVENT
UID:20260420T100147CEST-90714vMupU@Saalfelden-Leogang.com
DTSTAMP:20260420T080147Z
DESCRIPTION;LANGUAGE=en:The expanses around the Grießner Hochmoor invite yo
 u on an adventurous winter (snowshoe) hike up to the Seealm. After a cosy 
 meal at the hut\, you walk along the winter hiking trail\, without snowsho
 es\, but with lantern light into the evening and back to the starting poin
 t at Hochfilzen Biathlon railway station\n\n\n\n\n\n-Duration: 13.30 - app
 rox. 3.5 h \n\n-Meeting point: Hochfilzen biathlon railway station \n\n-Co
 sts: free with the Saalfelden Leogang Card\, without card 20\,- Euro per p
 erson \n\n-Number of participants: min. 2 persons -Equipment: winter shoes
 \, winter clothing \n\n-Registration: by 4.00 pm the day before scroll dow
 n for registration\n\nscroll down for registration
DTSTART:20260420T113000Z
DTEND:20260420T113000Z
LOCATION;LANGUAGE=en:Bahnhof Hochfilzen
SUMMARY;LANGUAGE=en:Schnee-Licht-Wanderung
END:VEVENT
BEGIN:VEVENT
UID:20260420T100147CEST-9072vjzfjU@Saalfelden-Leogang.com
DTSTAMP:20260420T080147Z
DESCRIPTION;LANGUAGE=en:The expanses around the Grießner Hochmoor invite yo
 u on an adventurous winter (snowshoe) hike up to the Seealm. After a cosy 
 meal at the hut\, you walk along the winter hiking trail\, without snowsho
 es\, but with lantern light into the evening and back to the starting poin
 t at Hochfilzen Biathlon railway station\n\n\n\n\n\n-Duration: 13.30 - app
 rox. 3.5 h \n\n-Meeting point: Hochfilzen biathlon railway station \n\n-Co
 sts: free with the Saalfelden Leogang Card\, without card 20\,- Euro per p
 erson \n\n-Number of participants: min. 2 persons -Equipment: winter shoes
 \, winter clothing \n\n-Registration: by 4.00 pm the day before scroll dow
 n for registration\n\nscroll down for registration
DTSTART:20260427T113000Z
DTEND:20260427T113000Z
LOCATION;LANGUAGE=en:Bahnhof Hochfilzen
SUMMARY;LANGUAGE=en:Schnee-Licht-Wanderung
END:VEVENT
END:VCALENDAR
