BEGIN:VCALENDAR
VERSION:2.0
PRODID:-//Saalfelden-Leogang.com//NONSGML kigkonsult.se iCalcreator 2.22.1/
 /EN
METHOD:PUBLISH
X-WR-CALNAME;LANGUAGE=en:Saalfelden-Leogang.com
X-WR-CALDESC;LANGUAGE=en:Saalfelden-Leogang.com
X-WR-TIMEZONE;LANGUAGE=en:Europe/Berlin
BEGIN:VEVENT
UID:20260423T192854CEST-7752VbD5No@Saalfelden-Leogang.com
DTSTAMP:20260423T172854Z
DESCRIPTION;LANGUAGE=en:Finland\n\n\n\nKalle Kalima - guitar \n\nTatu Rönkk
 ö – drums\n\n\n\nWhen soundscapes unfold like landscapes\, Lampen are your
  ideal guides. The duo of Kalle Kalima (guitar) and Tatu Rönkkö (percussio
 n\, sampler) creates music that defies categorization – blending post-jazz
 \, experimental sound art\, and meditative sonic exploration. Their debut 
 album Lampen – now reissued on We Jazz Records – is far from a typical lis
 tening experience. Tracks drift like calm river currents\, only to burst i
 nto cascading waves of sound when the moment is right. This is music for d
 eep listeners – rich\, hypnotic\, and full of surprises.
DTSTART:20250823T120000Z
DTEND:20250823T130000Z
LOCATION;LANGUAGE=en:Buchbinderei Fuchs
SUMMARY;LANGUAGE=en:Lampen
END:VEVENT
END:VCALENDAR
