BEGIN:VCALENDAR
VERSION:2.0
PRODID:-//Saalfelden-Leogang.com//NONSGML kigkonsult.se iCalcreator 2.22.1/
 /EN
METHOD:PUBLISH
X-WR-CALNAME;LANGUAGE=en:Saalfelden-Leogang.com
X-WR-CALDESC;LANGUAGE=en:Saalfelden-Leogang.com
X-WR-TIMEZONE;LANGUAGE=en:Europe/Berlin
BEGIN:VEVENT
UID:20260425T190718CEST-8923wIhVFc@Saalfelden-Leogang.com
DTSTAMP:20260425T170718Z
DESCRIPTION;LANGUAGE=en:Senegal\, Argentina\, Italy\n\n\n\nAbou Samb - voic
 e\, percussion \n\nGabriele cappello - saxophone \n\nGianluca Gallucci - b
 ass Luca vergano - guitar \n\nAriel Verosto - keys\, flute \n\nGiuseppe De
  Vito - drums\n\nRousing\, danceable\, and full of emotion: Afrodream is a
  powerful fusion of African rhythms\, Western-influenced pop\, and melodic
  sensitivity. The band brings an intense\, lively\, and deeply moving soun
 d to the stage. At the heart of it all is Abou Samb's warm voice\, carried
  by grooving bass lines\, driving percussion\, dreamy piano\, saxophone\, 
 and guitar. Their songs tell hopeful\, sometimes melancholy stories\, crea
 ting an atmosphere that invites you to dance and dream simultaneously. Afr
 odream is more than music — it's a feeling. It's an invitation to surrende
 r to the rhythm and immerse yourself in a world of sound where cultures me
 rge and emotions flow freely.
DTSTART:20250824T120000Z
DTEND:20250824T131500Z
LOCATION;LANGUAGE=en:Stadtpark Saalfelden
SUMMARY;LANGUAGE=en:Afrodream
END:VEVENT
END:VCALENDAR
