BEGIN:VCALENDAR
VERSION:2.0
PRODID:-//Saalfelden-Leogang.com//NONSGML kigkonsult.se iCalcreator 2.22.1/
 /DE
METHOD:PUBLISH
X-WR-CALNAME;LANGUAGE=de:Saalfelden-Leogang.com
X-WR-CALDESC;LANGUAGE=de:Saalfelden-Leogang.com
X-WR-TIMEZONE;LANGUAGE=de:Europe/Berlin
BEGIN:VEVENT
UID:20260421T032619CEST-9852pFuEXZ@Saalfelden-Leogang.com
DTSTAMP:20260421T012619Z
DESCRIPTION;LANGUAGE=de:Lass dich verzaubern und kommt mit in die Leoganger
  Natur-Schnee-Welt.\n\nMit Schneeschuhen und Licht erfahren wir die abendl
 iche Winterstimmung mit allen Sinnen. Die romantische Hütteneinkehr rundet
  das gemeinsame Erlebnis noch zusätzlich ab.\n\nStart: 18.00 h\, leicht-mi
 ttlere Wanderung\n\n\n\nDauer: ca. 3 h\n\nTreffpunkt: Oberer Dorfplatz Leo
 gang\n\nLeichte Wanderung\n\nKosten: kostenlos mit der Saalfelden Leogang 
 Card\, ohne Gästekarte 20\,- Euro/pers\n\nLeihmaterial: Euro 8\,- Euro/per
 s\n\nAusrüstung: Winterkleidung\, gute Winterschuhe\, Wechselkleidung für 
 Gipfel\n\nAnmeldung: bis zum Vortag 16:00 h\n\n\n\nscrolle weiter runter f
 ür die Anmeldung
DTSTART:20261218T170000Z
DTEND:20261218T200000Z
LOCATION;LANGUAGE=de:Oberer Dorfplatz Leogang
SUMMARY;LANGUAGE=de:Mondschein-Schneeschuhwanderung
END:VEVENT
BEGIN:VEVENT
UID:20260421T032619CEST-9853NDCWsc@Saalfelden-Leogang.com
DTSTAMP:20260421T012619Z
DESCRIPTION;LANGUAGE=de:Lass dich verzaubern und kommt mit in die Leoganger
  Natur-Schnee-Welt.\n\nMit Schneeschuhen und Licht erfahren wir die abendl
 iche Winterstimmung mit allen Sinnen. Die romantische Hütteneinkehr rundet
  das gemeinsame Erlebnis noch zusätzlich ab.\n\nStart: 18.00 h\, leicht-mi
 ttlere Wanderung\n\n\n\nDauer: ca. 3 h\n\nTreffpunkt: Oberer Dorfplatz Leo
 gang\n\nLeichte Wanderung\n\nKosten: kostenlos mit der Saalfelden Leogang 
 Card\, ohne Gästekarte 20\,- Euro/pers\n\nLeihmaterial: Euro 8\,- Euro/per
 s\n\nAusrüstung: Winterkleidung\, gute Winterschuhe\, Wechselkleidung für 
 Gipfel\n\nAnmeldung: bis zum Vortag 16:00 h\n\n\n\nscrolle weiter runter f
 ür die Anmeldung
DTSTART:20261225T170000Z
DTEND:20261225T200000Z
LOCATION;LANGUAGE=de:Oberer Dorfplatz Leogang
SUMMARY;LANGUAGE=de:Mondschein-Schneeschuhwanderung
END:VEVENT
BEGIN:VEVENT
UID:20260421T032619CEST-9853rdBiDg@Saalfelden-Leogang.com
DTSTAMP:20260421T012619Z
DESCRIPTION;LANGUAGE=de:Lass dich verzaubern und kommt mit in die Leoganger
  Natur-Schnee-Welt.\n\nMit Schneeschuhen und Licht erfahren wir die abendl
 iche Winterstimmung mit allen Sinnen. Die romantische Hütteneinkehr rundet
  das gemeinsame Erlebnis noch zusätzlich ab.\n\nStart: 18.00 h\, leicht-mi
 ttlere Wanderung\n\n\n\nDauer: ca. 3 h\n\nTreffpunkt: Oberer Dorfplatz Leo
 gang\n\nLeichte Wanderung\n\nKosten: kostenlos mit der Saalfelden Leogang 
 Card\, ohne Gästekarte 20\,- Euro/pers\n\nLeihmaterial: Euro 8\,- Euro/per
 s\n\nAusrüstung: Winterkleidung\, gute Winterschuhe\, Wechselkleidung für 
 Gipfel\n\nAnmeldung: bis zum Vortag 16:00 h\n\n\n\nscrolle weiter runter f
 ür die Anmeldung
DTSTART:20270101T170000Z
DTEND:20270101T200000Z
LOCATION;LANGUAGE=de:Oberer Dorfplatz Leogang
SUMMARY;LANGUAGE=de:Mondschein-Schneeschuhwanderung
END:VEVENT
BEGIN:VEVENT
UID:20260421T032619CEST-9854oeCd73@Saalfelden-Leogang.com
DTSTAMP:20260421T012619Z
DESCRIPTION;LANGUAGE=de:Lass dich verzaubern und kommt mit in die Leoganger
  Natur-Schnee-Welt.\n\nMit Schneeschuhen und Licht erfahren wir die abendl
 iche Winterstimmung mit allen Sinnen. Die romantische Hütteneinkehr rundet
  das gemeinsame Erlebnis noch zusätzlich ab.\n\nStart: 18.00 h\, leicht-mi
 ttlere Wanderung\n\n\n\nDauer: ca. 3 h\n\nTreffpunkt: Oberer Dorfplatz Leo
 gang\n\nLeichte Wanderung\n\nKosten: kostenlos mit der Saalfelden Leogang 
 Card\, ohne Gästekarte 20\,- Euro/pers\n\nLeihmaterial: Euro 8\,- Euro/per
 s\n\nAusrüstung: Winterkleidung\, gute Winterschuhe\, Wechselkleidung für 
 Gipfel\n\nAnmeldung: bis zum Vortag 16:00 h\n\n\n\nscrolle weiter runter f
 ür die Anmeldung
DTSTART:20270108T170000Z
DTEND:20270108T200000Z
LOCATION;LANGUAGE=de:Oberer Dorfplatz Leogang
SUMMARY;LANGUAGE=de:Mondschein-Schneeschuhwanderung
END:VEVENT
BEGIN:VEVENT
UID:20260421T032619CEST-9855i2HUU7@Saalfelden-Leogang.com
DTSTAMP:20260421T012619Z
DESCRIPTION;LANGUAGE=de:Lass dich verzaubern und kommt mit in die Leoganger
  Natur-Schnee-Welt.\n\nMit Schneeschuhen und Licht erfahren wir die abendl
 iche Winterstimmung mit allen Sinnen. Die romantische Hütteneinkehr rundet
  das gemeinsame Erlebnis noch zusätzlich ab.\n\nStart: 18.00 h\, leicht-mi
 ttlere Wanderung\n\n\n\nDauer: ca. 3 h\n\nTreffpunkt: Oberer Dorfplatz Leo
 gang\n\nLeichte Wanderung\n\nKosten: kostenlos mit der Saalfelden Leogang 
 Card\, ohne Gästekarte 20\,- Euro/pers\n\nLeihmaterial: Euro 8\,- Euro/per
 s\n\nAusrüstung: Winterkleidung\, gute Winterschuhe\, Wechselkleidung für 
 Gipfel\n\nAnmeldung: bis zum Vortag 16:00 h\n\n\n\nscrolle weiter runter f
 ür die Anmeldung
DTSTART:20270115T170000Z
DTEND:20270115T200000Z
LOCATION;LANGUAGE=de:Oberer Dorfplatz Leogang
SUMMARY;LANGUAGE=de:Mondschein-Schneeschuhwanderung
END:VEVENT
BEGIN:VEVENT
UID:20260421T032619CEST-9855SnSxDM@Saalfelden-Leogang.com
DTSTAMP:20260421T012619Z
DESCRIPTION;LANGUAGE=de:Lass dich verzaubern und kommt mit in die Leoganger
  Natur-Schnee-Welt.\n\nMit Schneeschuhen und Licht erfahren wir die abendl
 iche Winterstimmung mit allen Sinnen. Die romantische Hütteneinkehr rundet
  das gemeinsame Erlebnis noch zusätzlich ab.\n\nStart: 18.00 h\, leicht-mi
 ttlere Wanderung\n\n\n\nDauer: ca. 3 h\n\nTreffpunkt: Oberer Dorfplatz Leo
 gang\n\nLeichte Wanderung\n\nKosten: kostenlos mit der Saalfelden Leogang 
 Card\, ohne Gästekarte 20\,- Euro/pers\n\nLeihmaterial: Euro 8\,- Euro/per
 s\n\nAusrüstung: Winterkleidung\, gute Winterschuhe\, Wechselkleidung für 
 Gipfel\n\nAnmeldung: bis zum Vortag 16:00 h\n\n\n\nscrolle weiter runter f
 ür die Anmeldung
DTSTART:20270122T170000Z
DTEND:20270122T200000Z
LOCATION;LANGUAGE=de:Oberer Dorfplatz Leogang
SUMMARY;LANGUAGE=de:Mondschein-Schneeschuhwanderung
END:VEVENT
BEGIN:VEVENT
UID:20260421T032619CEST-9856wPTUno@Saalfelden-Leogang.com
DTSTAMP:20260421T012619Z
DESCRIPTION;LANGUAGE=de:Lass dich verzaubern und kommt mit in die Leoganger
  Natur-Schnee-Welt.\n\nMit Schneeschuhen und Licht erfahren wir die abendl
 iche Winterstimmung mit allen Sinnen. Die romantische Hütteneinkehr rundet
  das gemeinsame Erlebnis noch zusätzlich ab.\n\nStart: 18.00 h\, leicht-mi
 ttlere Wanderung\n\n\n\nDauer: ca. 3 h\n\nTreffpunkt: Oberer Dorfplatz Leo
 gang\n\nLeichte Wanderung\n\nKosten: kostenlos mit der Saalfelden Leogang 
 Card\, ohne Gästekarte 20\,- Euro/pers\n\nLeihmaterial: Euro 8\,- Euro/per
 s\n\nAusrüstung: Winterkleidung\, gute Winterschuhe\, Wechselkleidung für 
 Gipfel\n\nAnmeldung: bis zum Vortag 16:00 h\n\n\n\nscrolle weiter runter f
 ür die Anmeldung
DTSTART:20270129T170000Z
DTEND:20270129T200000Z
LOCATION;LANGUAGE=de:Oberer Dorfplatz Leogang
SUMMARY;LANGUAGE=de:Mondschein-Schneeschuhwanderung
END:VEVENT
BEGIN:VEVENT
UID:20260421T032619CEST-9856dte6wP@Saalfelden-Leogang.com
DTSTAMP:20260421T012619Z
DESCRIPTION;LANGUAGE=de:Lass dich verzaubern und kommt mit in die Leoganger
  Natur-Schnee-Welt.\n\nMit Schneeschuhen und Licht erfahren wir die abendl
 iche Winterstimmung mit allen Sinnen. Die romantische Hütteneinkehr rundet
  das gemeinsame Erlebnis noch zusätzlich ab.\n\nStart: 18.00 h\, leicht-mi
 ttlere Wanderung\n\n\n\nDauer: ca. 3 h\n\nTreffpunkt: Oberer Dorfplatz Leo
 gang\n\nLeichte Wanderung\n\nKosten: kostenlos mit der Saalfelden Leogang 
 Card\, ohne Gästekarte 20\,- Euro/pers\n\nLeihmaterial: Euro 8\,- Euro/per
 s\n\nAusrüstung: Winterkleidung\, gute Winterschuhe\, Wechselkleidung für 
 Gipfel\n\nAnmeldung: bis zum Vortag 16:00 h\n\n\n\nscrolle weiter runter f
 ür die Anmeldung
DTSTART:20270205T170000Z
DTEND:20270205T200000Z
LOCATION;LANGUAGE=de:Oberer Dorfplatz Leogang
SUMMARY;LANGUAGE=de:Mondschein-Schneeschuhwanderung
END:VEVENT
BEGIN:VEVENT
UID:20260421T032619CEST-98579SfnIh@Saalfelden-Leogang.com
DTSTAMP:20260421T012619Z
DESCRIPTION;LANGUAGE=de:Lass dich verzaubern und kommt mit in die Leoganger
  Natur-Schnee-Welt.\n\nMit Schneeschuhen und Licht erfahren wir die abendl
 iche Winterstimmung mit allen Sinnen. Die romantische Hütteneinkehr rundet
  das gemeinsame Erlebnis noch zusätzlich ab.\n\nStart: 18.00 h\, leicht-mi
 ttlere Wanderung\n\n\n\nDauer: ca. 3 h\n\nTreffpunkt: Oberer Dorfplatz Leo
 gang\n\nLeichte Wanderung\n\nKosten: kostenlos mit der Saalfelden Leogang 
 Card\, ohne Gästekarte 20\,- Euro/pers\n\nLeihmaterial: Euro 8\,- Euro/per
 s\n\nAusrüstung: Winterkleidung\, gute Winterschuhe\, Wechselkleidung für 
 Gipfel\n\nAnmeldung: bis zum Vortag 16:00 h\n\n\n\nscrolle weiter runter f
 ür die Anmeldung
DTSTART:20270212T170000Z
DTEND:20270212T200000Z
LOCATION;LANGUAGE=de:Oberer Dorfplatz Leogang
SUMMARY;LANGUAGE=de:Mondschein-Schneeschuhwanderung
END:VEVENT
BEGIN:VEVENT
UID:20260421T032619CEST-9858vtW4Tl@Saalfelden-Leogang.com
DTSTAMP:20260421T012619Z
DESCRIPTION;LANGUAGE=de:Lass dich verzaubern und kommt mit in die Leoganger
  Natur-Schnee-Welt.\n\nMit Schneeschuhen und Licht erfahren wir die abendl
 iche Winterstimmung mit allen Sinnen. Die romantische Hütteneinkehr rundet
  das gemeinsame Erlebnis noch zusätzlich ab.\n\nStart: 18.00 h\, leicht-mi
 ttlere Wanderung\n\n\n\nDauer: ca. 3 h\n\nTreffpunkt: Oberer Dorfplatz Leo
 gang\n\nLeichte Wanderung\n\nKosten: kostenlos mit der Saalfelden Leogang 
 Card\, ohne Gästekarte 20\,- Euro/pers\n\nLeihmaterial: Euro 8\,- Euro/per
 s\n\nAusrüstung: Winterkleidung\, gute Winterschuhe\, Wechselkleidung für 
 Gipfel\n\nAnmeldung: bis zum Vortag 16:00 h\n\n\n\nscrolle weiter runter f
 ür die Anmeldung
DTSTART:20270219T170000Z
DTEND:20270219T200000Z
LOCATION;LANGUAGE=de:Oberer Dorfplatz Leogang
SUMMARY;LANGUAGE=de:Mondschein-Schneeschuhwanderung
END:VEVENT
BEGIN:VEVENT
UID:20260421T032619CEST-9858mkrW5a@Saalfelden-Leogang.com
DTSTAMP:20260421T012619Z
DESCRIPTION;LANGUAGE=de:Lass dich verzaubern und kommt mit in die Leoganger
  Natur-Schnee-Welt.\n\nMit Schneeschuhen und Licht erfahren wir die abendl
 iche Winterstimmung mit allen Sinnen. Die romantische Hütteneinkehr rundet
  das gemeinsame Erlebnis noch zusätzlich ab.\n\nStart: 18.00 h\, leicht-mi
 ttlere Wanderung\n\n\n\nDauer: ca. 3 h\n\nTreffpunkt: Oberer Dorfplatz Leo
 gang\n\nLeichte Wanderung\n\nKosten: kostenlos mit der Saalfelden Leogang 
 Card\, ohne Gästekarte 20\,- Euro/pers\n\nLeihmaterial: Euro 8\,- Euro/per
 s\n\nAusrüstung: Winterkleidung\, gute Winterschuhe\, Wechselkleidung für 
 Gipfel\n\nAnmeldung: bis zum Vortag 16:00 h\n\n\n\nscrolle weiter runter f
 ür die Anmeldung
DTSTART:20270226T170000Z
DTEND:20270226T200000Z
LOCATION;LANGUAGE=de:Oberer Dorfplatz Leogang
SUMMARY;LANGUAGE=de:Mondschein-Schneeschuhwanderung
END:VEVENT
BEGIN:VEVENT
UID:20260421T032619CEST-9859ZnuLzM@Saalfelden-Leogang.com
DTSTAMP:20260421T012619Z
DESCRIPTION;LANGUAGE=de:Lass dich verzaubern und kommt mit in die Leoganger
  Natur-Schnee-Welt.\n\nMit Schneeschuhen und Licht erfahren wir die abendl
 iche Winterstimmung mit allen Sinnen. Die romantische Hütteneinkehr rundet
  das gemeinsame Erlebnis noch zusätzlich ab.\n\nStart: 18.00 h\, leicht-mi
 ttlere Wanderung\n\n\n\nDauer: ca. 3 h\n\nTreffpunkt: Oberer Dorfplatz Leo
 gang\n\nLeichte Wanderung\n\nKosten: kostenlos mit der Saalfelden Leogang 
 Card\, ohne Gästekarte 20\,- Euro/pers\n\nLeihmaterial: Euro 8\,- Euro/per
 s\n\nAusrüstung: Winterkleidung\, gute Winterschuhe\, Wechselkleidung für 
 Gipfel\n\nAnmeldung: bis zum Vortag 16:00 h\n\n\n\nscrolle weiter runter f
 ür die Anmeldung
DTSTART:20270305T170000Z
DTEND:20270305T200000Z
LOCATION;LANGUAGE=de:Oberer Dorfplatz Leogang
SUMMARY;LANGUAGE=de:Mondschein-Schneeschuhwanderung
END:VEVENT
BEGIN:VEVENT
UID:20260421T032619CEST-9860bof9OA@Saalfelden-Leogang.com
DTSTAMP:20260421T012619Z
DESCRIPTION;LANGUAGE=de:Lass dich verzaubern und kommt mit in die Leoganger
  Natur-Schnee-Welt.\n\nMit Schneeschuhen und Licht erfahren wir die abendl
 iche Winterstimmung mit allen Sinnen. Die romantische Hütteneinkehr rundet
  das gemeinsame Erlebnis noch zusätzlich ab.\n\nStart: 18.00 h\, leicht-mi
 ttlere Wanderung\n\n\n\nDauer: ca. 3 h\n\nTreffpunkt: Oberer Dorfplatz Leo
 gang\n\nLeichte Wanderung\n\nKosten: kostenlos mit der Saalfelden Leogang 
 Card\, ohne Gästekarte 20\,- Euro/pers\n\nLeihmaterial: Euro 8\,- Euro/per
 s\n\nAusrüstung: Winterkleidung\, gute Winterschuhe\, Wechselkleidung für 
 Gipfel\n\nAnmeldung: bis zum Vortag 16:00 h\n\n\n\nscrolle weiter runter f
 ür die Anmeldung
DTSTART:20270312T170000Z
DTEND:20270312T200000Z
LOCATION;LANGUAGE=de:Oberer Dorfplatz Leogang
SUMMARY;LANGUAGE=de:Mondschein-Schneeschuhwanderung
END:VEVENT
BEGIN:VEVENT
UID:20260421T032619CEST-9860HVoFpF@Saalfelden-Leogang.com
DTSTAMP:20260421T012619Z
DESCRIPTION;LANGUAGE=de:Lass dich verzaubern und kommt mit in die Leoganger
  Natur-Schnee-Welt.\n\nMit Schneeschuhen und Licht erfahren wir die abendl
 iche Winterstimmung mit allen Sinnen. Die romantische Hütteneinkehr rundet
  das gemeinsame Erlebnis noch zusätzlich ab.\n\nStart: 18.00 h\, leicht-mi
 ttlere Wanderung\n\n\n\nDauer: ca. 3 h\n\nTreffpunkt: Oberer Dorfplatz Leo
 gang\n\nLeichte Wanderung\n\nKosten: kostenlos mit der Saalfelden Leogang 
 Card\, ohne Gästekarte 20\,- Euro/pers\n\nLeihmaterial: Euro 8\,- Euro/per
 s\n\nAusrüstung: Winterkleidung\, gute Winterschuhe\, Wechselkleidung für 
 Gipfel\n\nAnmeldung: bis zum Vortag 16:00 h\n\n\n\nscrolle weiter runter f
 ür die Anmeldung
DTSTART:20270319T170000Z
DTEND:20270319T200000Z
LOCATION;LANGUAGE=de:Oberer Dorfplatz Leogang
SUMMARY;LANGUAGE=de:Mondschein-Schneeschuhwanderung
END:VEVENT
BEGIN:VEVENT
UID:20260421T032619CEST-9861HrSVds@Saalfelden-Leogang.com
DTSTAMP:20260421T012619Z
DESCRIPTION;LANGUAGE=de:Lass dich verzaubern und kommt mit in die Leoganger
  Natur-Schnee-Welt.\n\nMit Schneeschuhen und Licht erfahren wir die abendl
 iche Winterstimmung mit allen Sinnen. Die romantische Hütteneinkehr rundet
  das gemeinsame Erlebnis noch zusätzlich ab.\n\nStart: 18.00 h\, leicht-mi
 ttlere Wanderung\n\n\n\nDauer: ca. 3 h\n\nTreffpunkt: Oberer Dorfplatz Leo
 gang\n\nLeichte Wanderung\n\nKosten: kostenlos mit der Saalfelden Leogang 
 Card\, ohne Gästekarte 20\,- Euro/pers\n\nLeihmaterial: Euro 8\,- Euro/per
 s\n\nAusrüstung: Winterkleidung\, gute Winterschuhe\, Wechselkleidung für 
 Gipfel\n\nAnmeldung: bis zum Vortag 16:00 h\n\n\n\nscrolle weiter runter f
 ür die Anmeldung
DTSTART:20270326T170000Z
DTEND:20270326T200000Z
LOCATION;LANGUAGE=de:Oberer Dorfplatz Leogang
SUMMARY;LANGUAGE=de:Mondschein-Schneeschuhwanderung
END:VEVENT
BEGIN:VEVENT
UID:20260421T032619CEST-9862V8HXZv@Saalfelden-Leogang.com
DTSTAMP:20260421T012619Z
DESCRIPTION;LANGUAGE=de:Lass dich verzaubern und kommt mit in die Leoganger
  Natur-Schnee-Welt.\n\nMit Schneeschuhen und Licht erfahren wir die abendl
 iche Winterstimmung mit allen Sinnen. Die romantische Hütteneinkehr rundet
  das gemeinsame Erlebnis noch zusätzlich ab.\n\nStart: 18.00 h\, leicht-mi
 ttlere Wanderung\n\n\n\nDauer: ca. 3 h\n\nTreffpunkt: Oberer Dorfplatz Leo
 gang\n\nLeichte Wanderung\n\nKosten: kostenlos mit der Saalfelden Leogang 
 Card\, ohne Gästekarte 20\,- Euro/pers\n\nLeihmaterial: Euro 8\,- Euro/per
 s\n\nAusrüstung: Winterkleidung\, gute Winterschuhe\, Wechselkleidung für 
 Gipfel\n\nAnmeldung: bis zum Vortag 16:00 h\n\n\n\nscrolle weiter runter f
 ür die Anmeldung
DTSTART:20270402T160000Z
DTEND:20270402T190000Z
LOCATION;LANGUAGE=de:Oberer Dorfplatz Leogang
SUMMARY;LANGUAGE=de:Mondschein-Schneeschuhwanderung
END:VEVENT
BEGIN:VEVENT
UID:20260421T032619CEST-9862leLWRE@Saalfelden-Leogang.com
DTSTAMP:20260421T012619Z
DESCRIPTION;LANGUAGE=de:Lass dich verzaubern und kommt mit in die Leoganger
  Natur-Schnee-Welt.\n\nMit Schneeschuhen und Licht erfahren wir die abendl
 iche Winterstimmung mit allen Sinnen. Die romantische Hütteneinkehr rundet
  das gemeinsame Erlebnis noch zusätzlich ab.\n\nStart: 18.00 h\, leicht-mi
 ttlere Wanderung\n\n\n\nDauer: ca. 3 h\n\nTreffpunkt: Oberer Dorfplatz Leo
 gang\n\nLeichte Wanderung\n\nKosten: kostenlos mit der Saalfelden Leogang 
 Card\, ohne Gästekarte 20\,- Euro/pers\n\nLeihmaterial: Euro 8\,- Euro/per
 s\n\nAusrüstung: Winterkleidung\, gute Winterschuhe\, Wechselkleidung für 
 Gipfel\n\nAnmeldung: bis zum Vortag 16:00 h\n\n\n\nscrolle weiter runter f
 ür die Anmeldung
DTSTART:20270409T160000Z
DTEND:20270409T190000Z
LOCATION;LANGUAGE=de:Oberer Dorfplatz Leogang
SUMMARY;LANGUAGE=de:Mondschein-Schneeschuhwanderung
END:VEVENT
BEGIN:VEVENT
UID:20260421T032619CEST-9863loRvXr@Saalfelden-Leogang.com
DTSTAMP:20260421T012619Z
DESCRIPTION;LANGUAGE=de:Lass dich verzaubern und kommt mit in die Leoganger
  Natur-Schnee-Welt.\n\nMit Schneeschuhen und Licht erfahren wir die abendl
 iche Winterstimmung mit allen Sinnen. Die romantische Hütteneinkehr rundet
  das gemeinsame Erlebnis noch zusätzlich ab.\n\nStart: 18.00 h\, leicht-mi
 ttlere Wanderung\n\n\n\nDauer: ca. 3 h\n\nTreffpunkt: Oberer Dorfplatz Leo
 gang\n\nLeichte Wanderung\n\nKosten: kostenlos mit der Saalfelden Leogang 
 Card\, ohne Gästekarte 20\,- Euro/pers\n\nLeihmaterial: Euro 8\,- Euro/per
 s\n\nAusrüstung: Winterkleidung\, gute Winterschuhe\, Wechselkleidung für 
 Gipfel\n\nAnmeldung: bis zum Vortag 16:00 h\n\n\n\nscrolle weiter runter f
 ür die Anmeldung
DTSTART:20270416T160000Z
DTEND:20270416T190000Z
LOCATION;LANGUAGE=de:Oberer Dorfplatz Leogang
SUMMARY;LANGUAGE=de:Mondschein-Schneeschuhwanderung
END:VEVENT
END:VCALENDAR
